BEGIN:VCALENDAR
VERSION:2.0
PRODID:-//wp-events-plugin.com//7.2.3.1//EN
BEGIN:VEVENT
UID:780@sonnytroupe.com
DTSTART:20211216T190000Z
DTEND:20211216T190000Z
DTSTAMP:20211012T172832Z
URL:https://sonnytroupe.com/events/zouke-jazz-la-10
SUMMARY:Zouké Jazz La
DESCRIPTION:Alex Deaz : sax\n\nYann Négrit : guitare\n\nEric Delblond : ba
 sse\n\nSonny Troupé : batterie\n\n[embed]https://www.youtube.com/watch?v=
 K8CIXWYwCxg[/embed]
ATTACH;FMTTYPE=image/jpeg:https://sonnytroupe.com/wp-content/uploads/2020/
 03/ZJL-seul-noir-copie.jpg
CATEGORIES:Sonny
LOCATION:le Baiser Salé\, 58\, rue des Lombards\, Paris\, 75001\, France
GEO:48.8597733;2.347917300000063
X-APPLE-STRUCTURED-LOCATION;VALUE=URI;X-ADDRESS=58\, rue des Lombards\, Par
 is\, 75001\, France;X-APPLE-RADIUS=100;X-TITLE=le Baiser Salé:geo:48.8597
 733,2.347917300000063
END:VEVENT
END:VCALENDAR