BEGIN:VCALENDAR
VERSION:2.0
PRODID:-//wp-events-plugin.com//7.2.3.1//EN
BEGIN:VEVENT
UID:1147@sonnytroupe.com
DTSTART:20260506T190000Z
DTEND:20260506T190000Z
DTSTAMP:20260421T152234Z
URL:https://sonnytroupe.com/events/zjl-zouke-jazz-la-7
SUMMARY:ZJL ! Zouké Jazz La !
DESCRIPTION:Le ZJL  a pour vocation la revisite de morceaux de zouk connus
  et moins connus en version instrumentale\, originale et jazzifiée ! À c
 ela se rajoute une composition en mode "ZJL" de chacun des musiciens.\n\nJ
 ocelyn Ménard - sax\n\nYann Négrit - guitare\n\nEric Delblond - basse\n\
 nSonny Troupé - batterie
ATTACH;FMTTYPE=image/jpeg:https://sonnytroupe.com/wp-content/uploads/2020/
 03/ZJL-seul-noir-copie.jpg
CATEGORIES:Sonny
LOCATION:New Ti Paris\, 25 Montée de Périnet\, Gosier\, 97190\, Dom\, Gua
 deloupe
GEO:16.265;-61.55099999999999
X-APPLE-STRUCTURED-LOCATION;VALUE=URI;X-ADDRESS=25 Montée de Périnet\, Go
 sier\, 97190\, Dom\, Guadeloupe;X-APPLE-RADIUS=100;X-TITLE=New Ti Paris:ge
 o:16.265,-61.55099999999999
END:VEVENT
END:VCALENDAR