BEGIN:VCALENDAR
VERSION:2.0
PRODID:-//wp-events-plugin.com//7.2.3.1//EN
BEGIN:VEVENT
UID:740@sonnytroupe.com
DTSTART:20210827T190000Z
DTEND:20210827T190000Z
DTSTAMP:20210702T124050Z
URL:https://sonnytroupe.com/events/zjl-zouke-jazz-la-6
SUMMARY:ZJL (Zouké Jazz La !)
DESCRIPTION:Dans le cadre de la tournée ZJL en Guadeloupe\n\nLine up : sur
 prise !\n\nDifferent à chaque date\n\nGrande finale à Kouleur Kréol\n\n
 https://www.youtube.com/watch?v=K8CIXWYwCxg\n\n&nbsp\;\n\n&nbsp\;\n\n&nbsp
 \;
ATTACH;FMTTYPE=image/jpeg:https://sonnytroupe.com/wp-content/uploads/2020/
 03/ZJL-seul-noir-copie.jpg
CATEGORIES:Sonny
END:VEVENT
END:VCALENDAR