BEGIN:VCALENDAR
VERSION:2.0
PRODID:-//wp-events-plugin.com//7.2.3.1//EN
BEGIN:VEVENT
UID:671@sonnytroupe.com
DTSTART:20201022T200000Z
DTEND:20201022T200000Z
DTSTAMP:20201017T172448Z
URL:https://sonnytroupe.com/events/zjl-collectif-zouke-jazz-la
SUMMARY:ZJL - Collectif "Zouké Jazz La" REPORTÉ
DESCRIPTION:Dans le cadre des Caribéennes de Mai - Paris\n\nAlex Deaz : sa
 x\n\nXavier Belin : claviers\n\nEric Delblond : basse\n\nSonny Troupé : b
 atterie\n\nhttps://www.youtube.com/watch?v=K8CIXWYwCxg\n\n&nbsp\;
ATTACH;FMTTYPE=image/jpeg:https://sonnytroupe.com/wp-content/uploads/2020/
 03/ZJL-seul-noir-copie.jpg
CATEGORIES:Sonny
LOCATION:le Baiser Salé\, 58\, rue des Lombards\, Paris\, 75001\, France
GEO:48.8597733;2.347917300000063
X-APPLE-STRUCTURED-LOCATION;VALUE=URI;X-ADDRESS=58\, rue des Lombards\, Par
 is\, 75001\, France;X-APPLE-RADIUS=100;X-TITLE=le Baiser Salé:geo:48.8597
 733,2.347917300000063
END:VEVENT
END:VCALENDAR