BEGIN:VCALENDAR
VERSION:2.0
PRODID:-//wp-events-plugin.com//7.2.3.1//EN
BEGIN:VEVENT
UID:913@sonnytroupe.com
DTSTART:20230623T230000Z
DTEND:20230623T230000Z
DTSTAMP:20230608T185007Z
URL:https://sonnytroupe.com/events/trio-laviso-25
SUMMARY:Trio Laviso
DESCRIPTION:Christian Laviso : guitare\n\nJean Pierre Phipps : ka\n\nSonny 
 Troupé : batterie
ATTACH;FMTTYPE=image/jpeg:https://sonnytroupe.com/wp-content/uploads/2021/
 07/Christian-Laviso-et-Sonny-Troupe.jpg
CATEGORIES:Sideman
LOCATION:Saint Louis de Marie Galante\, Saint Louis\, Saint Louis\, 97126\,
  Guadeloupe
X-APPLE-STRUCTURED-LOCATION;VALUE=URI;X-ADDRESS=Saint Louis\, Saint Louis\,
  97126\, Guadeloupe;X-APPLE-RADIUS=100;X-TITLE=Saint Louis de Marie Galant
 e:geo:0,0
END:VEVENT
END:VCALENDAR