BEGIN:VCALENDAR
VERSION:2.0
PRODID:-//wp-events-plugin.com//7.2.3.1//EN
BEGIN:VEVENT
UID:906@sonnytroupe.com
DTSTART:20230610T150000Z
DTEND:20230610T150000Z
DTSTAMP:20230608T183202Z
URL:https://sonnytroupe.com/events/trio-laviso-24
SUMMARY:Trio Laviso
DESCRIPTION:Christian Laviso : guitare\n\nJean Pierre Phipps : ka\n\nSonny 
 Troupé : batterie
ATTACH;FMTTYPE=image/jpeg:https://sonnytroupe.com/wp-content/uploads/2021/
 07/Christian-Laviso-et-Sonny-Troupe.jpg
CATEGORIES:Sideman
LOCATION:BIK CHU\, BIK CHU\, POINTE A PITRE\, 97110\, Guadeloupe
X-APPLE-STRUCTURED-LOCATION;VALUE=URI;X-ADDRESS=BIK CHU\, POINTE A PITRE\, 
 97110\, Guadeloupe;X-APPLE-RADIUS=100;X-TITLE=BIK CHU:geo:0,0
END:VEVENT
END:VCALENDAR