BEGIN:VCALENDAR
VERSION:2.0
PRODID:-//wp-events-plugin.com//7.2.3.1//EN
BEGIN:VEVENT
UID:105@sonnytroupe.com
DTSTART:20140828T190000Z
DTEND:20140828T190000Z
DTSTAMP:20140825T151349Z
URL:https://sonnytroupe.com/events/trio-laviso-2
SUMMARY:Trio Laviso
DESCRIPTION:Christian Laviso : guitare\, voix\n\nAldo Middleton : tambour\,
  percussion\, voix\n\nSonny Troupé : batterie\, voix\n\nSpécial guest : 
 Sylvain Joseph (sax alto)
CATEGORIES:Sideman
LOCATION:Yatch Club\, Quai Lardenoy\, Pointe à Pitre\, Guadeloupe\, 97110 
 \, DOM\, Guadeloupe
GEO:16.265;-61.55099999999999
X-APPLE-STRUCTURED-LOCATION;VALUE=URI;X-ADDRESS=Quai Lardenoy\, Pointe à P
 itre\, Guadeloupe\, 97110 \, DOM\, Guadeloupe;X-APPLE-RADIUS=100;X-TITLE=Y
 atch Club:geo:16.265,-61.55099999999999
END:VEVENT
END:VCALENDAR