BEGIN:VCALENDAR
VERSION:2.0
PRODID:-//wp-events-plugin.com//7.2.3.1//EN
BEGIN:VEVENT
UID:748@sonnytroupe.com
DTSTART:20210725T163000Z
DTEND:20210725T163000Z
DTSTAMP:20210725T090358Z
URL:https://sonnytroupe.com/events/trio-laviso-16
SUMMARY:Trio Laviso
DESCRIPTION:Christian Laviso : guitare\n\nJean Pierre Phipps : percussions\
 , makè\n\nSonny Troupé : batterie
ATTACH;FMTTYPE=image/jpeg:https://sonnytroupe.com/wp-content/uploads/2021/
 07/Christian-Laviso-et-Sonny-Troupe.jpg
CATEGORIES:Sideman
LOCATION:Plage de L'Autre Bord\, Plage de L'Autre Bord\, Le Moule\, 97160\,
  Guadeloupe
X-APPLE-STRUCTURED-LOCATION;VALUE=URI;X-ADDRESS=Plage de L'Autre Bord\, Le 
 Moule\, 97160\, Guadeloupe;X-APPLE-RADIUS=100;X-TITLE=Plage de L'Autre Bor
 d:geo:0,0
END:VEVENT
END:VCALENDAR