BEGIN:VCALENDAR
VERSION:2.0
PRODID:-//wp-events-plugin.com//7.2.3.1//EN
BEGIN:VEVENT
UID:218@sonnytroupe.com
DTSTART:20150806T180000Z
DTEND:20150806T180000Z
DTSTAMP:20150803T161608Z
URL:https://sonnytroupe.com/events/toma-roche-the-ladybirds-4
SUMMARY:Toma Roche & The Ladybirds
DESCRIPTION:Site Toma Roche\n\nLe lieu
CATEGORIES:Sideman
LOCATION:Épicerie Café de Mandagout\, Beaulieu\, Mandagout\, Languedoc-Ro
 ussillon\, 30120 \, France
GEO:44.020711;3.6254750000000513
X-APPLE-STRUCTURED-LOCATION;VALUE=URI;X-ADDRESS=Beaulieu\, Mandagout\, Lang
 uedoc-Roussillon\, 30120 \, France;X-APPLE-RADIUS=100;X-TITLE=Épicerie Ca
 fé de Mandagout:geo:44.020711,3.6254750000000513
END:VEVENT
END:VCALENDAR