BEGIN:VCALENDAR
VERSION:2.0
PRODID:-//wp-events-plugin.com//7.2.3.1//EN
BEGIN:VEVENT
UID:217@sonnytroupe.com
DTSTART:20150805T180000Z
DTEND:20150805T180000Z
DTSTAMP:20150803T155454Z
URL:https://sonnytroupe.com/events/toma-roche-the-ladybirds-3
SUMMARY:Toma Roche & the LadyBirds
DESCRIPTION:"Toma Roche : attention talent ! Une découverte comme on les a
 ime"  (La voix du nord)\n\n"Amoureux notoire de la langue parlée\, il n'
 hésite pas à tronquer\, détourner à inventer du sens au mots" (blog Ar
 te)
CATEGORIES:Sideman
LOCATION:Moki Bar\, 61 rue des Vignoles \, Paris\, 75020\, Ile de France\, 
 France
GEO:48.8550215;2.400840099999982
X-APPLE-STRUCTURED-LOCATION;VALUE=URI;X-ADDRESS=61 rue des Vignoles \, Pari
 s\, 75020\, Ile de France\, France;X-APPLE-RADIUS=100;X-TITLE=Moki Bar:geo
 :48.8550215,2.400840099999982
END:VEVENT
END:VCALENDAR