BEGIN:VCALENDAR
VERSION:2.0
PRODID:-//wp-events-plugin.com//7.2.3.1//EN
BEGIN:VEVENT
UID:1015@sonnytroupe.com
DTSTART:20240811T110000Z
DTEND:20240811T110000Z
DTSTAMP:20240721T210614Z
URL:https://sonnytroupe.com/events/stephane-castry-soul-funk-concept-2
SUMMARY:Stéphane Castry Soul Funk Concept
DESCRIPTION:
CATEGORIES:Sideman
LOCATION:Diamant Créole\, La Regrettée RN1\, Trois Rivieres \, Trois Rivi
 ère\, 97114\, Guadeloupe
X-APPLE-STRUCTURED-LOCATION;VALUE=URI;X-ADDRESS=La Regrettée RN1\, Trois R
 ivieres \, Trois Rivière\, 97114\, Guadeloupe;X-APPLE-RADIUS=100;X-TITLE=
 Diamant Créole:geo:0,0
END:VEVENT
END:VCALENDAR