BEGIN:VCALENDAR
VERSION:2.0
PRODID:-//wp-events-plugin.com//7.2.3.1//EN
BEGIN:VEVENT
UID:1113@sonnytroupe.com
DTSTART:20251219T070000Z
DTEND:20251219T070000Z
DTSTAMP:20251217T110223Z
URL:https://sonnytroupe.com/events/sortie-du-nouveau-single-san-mele-de-so
 nny-troupe
SUMMARY:Sortie du nouveau single San Mélé de Sonny Troupé
DESCRIPTION:1er single extrait de l'album "Evy Danse". Sortie prévue le 6 
 février 2026.\nAvec Evy Danse\, troisième album rayonnant\, Sonny Troup
 é ne clôt pas seulement un\ntriptyque\, mais une quête : celle-là mêm
 e entamée avec son quartet en 2013 sur\nVoyages et rêves et poursuivie e
 n 2017 par Reflets Denses\, voire bien auparavant\npuisqu’il baigne depu
 is la naissance dans le foisonnement culturel du gwoka modèn de\nGuadelou
 pe.\nLe Sonny Troupé Quartet\, c’est d’abord une histoire qui a comme
 ncé de l’autre côté de\nl’Atlantique\, mais tout en continuant de c
 onvoquer la Caraïbe. Sonny Troupé expérimente\nau côté de ceux qui\, 
 avec lui\, contribuent à façonner la scène jazz actuelle.\nPour ce troi
 sième opus\, il s’est posé le défi d’écrire pour un quatuor à cor
 des\, formation\nphare de la musique classique. Sonny Troupé confirme son
  statut d’ambassadeur d’un\ngwoka moderne\, en dansant sur un fil tén
 u entre tradition et ouverture.\nAvec Evy Danse\, référence à la fluidi
 té avec lequel cet album a été conçu\, le musicien\ndéploie avec maes
 tria son sens de la polyrythmie.\nAu-delà de la performance technique et 
 musicale\, en clôturant ce triptyque\, le musicien\npropose un conte\, un
  récit initiatique. Par ce geste\, Sonny Troupé s'inscrit dans une\nhist
 oire universelle de la musique\, dont il confirme\, avec cet opus\, qu’i
 l est un immense\nambassadeur.\nSan Mélé\, le premier single est peut-ê
 tre l’illustration la plus parlante du syncrétisme mis\nen œuvre par l
 e maestro\, entre tradition et ouverture.\nEn invité sur ce titre : Lou T
 avano - chant\, Guillaume Latil - violoncelle.\nUne voix féminine emprein
 t d’une grande émotion qui ne laisse pas indifférent\, dialoguant\nave
 c un violoncelle à la fois ardent et lyrique.\nSan Mélé ou l’histoire
  poétique d’un voyage vers ce que l’Homme a de plus beau.
ATTACH;FMTTYPE=image/jpeg:https://sonnytroupe.com/wp-content/uploads/2025/
 11/Sonny-troupe-feat-Lou-Tavano-Guillaume-Latil-san-mele-cover-single-3000
 x3000-copie-scaled.jpg
CATEGORIES:Masterclass,Sonny
END:VEVENT
END:VCALENDAR