BEGIN:VCALENDAR
VERSION:2.0
PRODID:-//wp-events-plugin.com//7.2.3.1//EN
BEGIN:VEVENT
UID:1064@sonnytroupe.com
DTSTART:20250618T170000Z
DTEND:20250618T170000Z
DTSTAMP:20250513T164706Z
URL:https://sonnytroupe.com/events/sonny-troupe
SUMMARY:Sonny Troupé - NouNanm
DESCRIPTION:Programme spécialement pensé pour le Festival Point Lire\n\nS
 ylvain Joseph : sax\n\nJonathan Jurion : piano\n\nStéphane Castry : basse
 \n\nSonny Troupé : batterie\, band leader\n\nhttps://www.youtube.com/watc
 h?v=neQOdWT1An8
ATTACH;FMTTYPE=image/jpeg:https://sonnytroupe.com/wp-content/uploads/2024/
 06/SonnyTroupe0519_75-copie-scaled.jpeg
CATEGORIES:Sonny
LOCATION:Librairie Point Lire\,  Les Portes du Moule Zac de Damencourt\,  L
 e Moule\, 97160\, Guadeloupe
X-APPLE-STRUCTURED-LOCATION;VALUE=URI;X-ADDRESS= Les Portes du Moule Zac de
  Damencourt\,  Le Moule\, 97160\, Guadeloupe;X-APPLE-RADIUS=100;X-TITLE=Li
 brairie Point Lire:geo:0,0
END:VEVENT
END:VCALENDAR