BEGIN:VCALENDAR
VERSION:2.0
PRODID:-//wp-events-plugin.com//7.2.3.1//EN
BEGIN:VEVENT
UID:973@sonnytroupe.com
DTSTART:20240510T190000Z
DTEND:20240510T190000Z
DTSTAMP:20231216T122231Z
URL:https://sonnytroupe.com/events/sonny-troupe-romance-live
SUMMARY:Sonny Troupé - Romance Live
DESCRIPTION:Pour la 1ère fois à Paris
CATEGORIES:Sonny
LOCATION:le Baiser Salé\, 58\, rue des Lombards\, Paris\, 75001\, France
GEO:48.8597733;2.347917300000063
X-APPLE-STRUCTURED-LOCATION;VALUE=URI;X-ADDRESS=58\, rue des Lombards\, Par
 is\, 75001\, France;X-APPLE-RADIUS=100;X-TITLE=le Baiser Salé:geo:48.8597
 733,2.347917300000063
END:VEVENT
END:VCALENDAR