BEGIN:VCALENDAR
VERSION:2.0
PRODID:-//wp-events-plugin.com//7.2.3.1//EN
BEGIN:VEVENT
UID:989@sonnytroupe.com
DTSTART:20240510T183000Z
DTEND:20240510T183000Z
DTSTAMP:20240502T220047Z
URL:https://sonnytroupe.com/events/sonny-troupe-romance-live-2
SUMMARY:Sonny Troupé - Romance Live
DESCRIPTION:Pour la première fois à Paris\n\n"Romance-Live" issus du dern
 ier album "Romance". N'hésitez pas à utiliser le code promo BS1005 pour
  bénéficier d'un tarif réduit !\n\n Billeterie\n\nThomas Koenig : fl
 ûte\, sax ténorJocelyn Ménard : sax ténorXavier Belin : pianoStéphan
 e Castry : basseSonny Troupé : batterie
ATTACH;FMTTYPE=image/jpeg:https://sonnytroupe.com/wp-content/uploads/2023/
 01/Romance_1.jpg
CATEGORIES:Sonny
LOCATION:le Baiser Salé\, 58\, rue des Lombards\, Paris\, 75001\, France
GEO:48.8597733;2.347917300000063
X-APPLE-STRUCTURED-LOCATION;VALUE=URI;X-ADDRESS=58\, rue des Lombards\, Par
 is\, 75001\, France;X-APPLE-RADIUS=100;X-TITLE=le Baiser Salé:geo:48.8597
 733,2.347917300000063
END:VEVENT
END:VCALENDAR