BEGIN:VCALENDAR
VERSION:2.0
PRODID:-//wp-events-plugin.com//7.2.3.1//EN
BEGIN:VEVENT
UID:1110@sonnytroupe.com
DTSTART:20260409T190000Z
DTEND:20260409T190000Z
DTSTAMP:20260206T191010Z
URL:https://sonnytroupe.com/events/sonny-troupe-quartet-add-4-evy-danse
SUMMARY:Sonny Troupé Quartet Add 4 - Evy Danse
DESCRIPTION:Concert de sortie d'album - Achetez vos places ici : Billetweb
ATTACH;FMTTYPE=image/jpeg:https://sonnytroupe.com/wp-content/uploads/2026/
 01/Web_cover_Evy_Danse.jpg
CATEGORIES:Sonny
LOCATION:Studio de l'Ermitage\, 8 Rue de l'Ermitage\, Paris\, 75020\, Franc
 e
X-APPLE-STRUCTURED-LOCATION;VALUE=URI;X-ADDRESS=8 Rue de l'Ermitage\, Paris
 \, 75020\, France;X-APPLE-RADIUS=100;X-TITLE=Studio de l'Ermitage:geo:0,0
END:VEVENT
END:VCALENDAR