BEGIN:VCALENDAR
VERSION:2.0
PRODID:-//wp-events-plugin.com//7.2.3.1//EN
BEGIN:VEVENT
UID:1124@sonnytroupe.com
DTSTART:20260226T190000Z
DTEND:20260226T190000Z
DTSTAMP:20251219T172904Z
URL:https://sonnytroupe.com/events/selene-saint-aime-trio-3
SUMMARY:Sélène Saint Aimé Trio
DESCRIPTION:
ATTACH;FMTTYPE=image/jpeg:https://sonnytroupe.com/wp-content/uploads/2025/
 12/Photo-Selene-Saint-Aime-Trio.jpg
CATEGORIES:Sideman
LOCATION:Victoria National Jazz Scene\, Karl Johans gt. 35\,\, Oslo\, 0161\
 , Norvège
X-APPLE-STRUCTURED-LOCATION;VALUE=URI;X-ADDRESS=Karl Johans gt. 35\,\, Oslo
 \, 0161\, Norvège;X-APPLE-RADIUS=100;X-TITLE=Victoria National Jazz Scene
 :geo:0,0
END:VEVENT
END:VCALENDAR