BEGIN:VCALENDAR
VERSION:2.0
PRODID:-//wp-events-plugin.com//7.2.3.1//EN
BEGIN:VEVENT
UID:1025@sonnytroupe.com
DTSTART:20241109T193000Z
DTEND:20241109T193000Z
DTSTAMP:20241028T161622Z
URL:https://sonnytroupe.com/events/selene-saint-aime-39
SUMMARY:Sélène Saint Aimé
DESCRIPTION:
ATTACH;FMTTYPE=image/jpeg:https://sonnytroupe.com/wp-content/uploads/2023/
 06/71Rv0MJlXvL._SL1181_.jpg
CATEGORIES:Sideman
LOCATION:D'Jazz Nevers Festival\, La Maison\, grande salle\, 2 Bd Pierre de
  Coubertin\, Nevers\, 58000\, France
X-APPLE-STRUCTURED-LOCATION;VALUE=URI;X-ADDRESS=La Maison\, grande salle\, 
 2 Bd Pierre de Coubertin\, Nevers\, 58000\, France;X-APPLE-RADIUS=100;X-TI
 TLE=D'Jazz Nevers Festival:geo:0,0
END:VEVENT
END:VCALENDAR