BEGIN:VCALENDAR
VERSION:2.0
PRODID:-//wp-events-plugin.com//7.2.3.1//EN
BEGIN:VEVENT
UID:917@sonnytroupe.com
DTSTART:20230705T190000Z
DTEND:20230705T190000Z
DTSTAMP:20230609T143430Z
URL:https://sonnytroupe.com/events/selene-saint-aime-30
SUMMARY:Sélène Saint Aimé
DESCRIPTION:
CATEGORIES:Sideman
LOCATION:Munich\, Munich\, Munich\, Allemagne
X-APPLE-STRUCTURED-LOCATION;VALUE=URI;X-ADDRESS=Munich\, Munich\, Allemagne
 ;X-APPLE-RADIUS=100;X-TITLE=Munich:geo:0,0
END:VEVENT
END:VCALENDAR