BEGIN:VCALENDAR
VERSION:2.0
PRODID:-//wp-events-plugin.com//7.2.3.1//EN
BEGIN:VEVENT
UID:557@sonnytroupe.com
DTSTART:20190731T190000Z
DTEND:20190731T190000Z
DTSTAMP:20190512T204550Z
URL:https://sonnytroupe.com/events/raphael-imbert-et-jean-guihen-queyras
SUMMARY:Raphaël Imbert et Jean-Guihen Queyras
DESCRIPTION:Création "Invisible Stream"\n\nRaphaël Imbert : saxophones\nJ
 ean-Guihen Queyras : violoncelle\nSonny Troupé : percussions\nPierre-Fran
 çois Blanchard : piano\n\nhttps://festival1001notes.com/agenda/evenement
 /raphael-imbert-et-jean-guihen-queyras
CATEGORIES:Sideman
LOCATION:1001 Notes en Limousin\, Collégiale / Place Wilson\, Saint-Léona
 rd-de-Noblat\, 87400\, France
X-APPLE-STRUCTURED-LOCATION;VALUE=URI;X-ADDRESS=Collégiale / Place Wilson\
 , Saint-Léonard-de-Noblat\, 87400\, France;X-APPLE-RADIUS=100;X-TITLE=100
 1 Notes en Limousin:geo:0,0
END:VEVENT
END:VCALENDAR