BEGIN:VCALENDAR
VERSION:2.0
PRODID:-//wp-events-plugin.com//7.2.3.1//EN
BEGIN:VEVENT
UID:908@sonnytroupe.com
DTSTART:20230616T190000Z
DTEND:20230616T190000Z
DTSTAMP:20230608T184010Z
URL:https://sonnytroupe.com/events/raphael-imbert-co
SUMMARY:Raphaël Imbert & Co
DESCRIPTION:INVISIBLE STREAM\nSaxophones\, clarinette basse : Raphaël Imb
 ert\nVioloncelle : Jean-Guihen Queyras\nPiano : Pierre-François Blancha
 rd\nBatterie\, tambour Ka : Sonny Troupé\n\nINVITÉS\nChants : Hugh Col
 tman\, Célia Kameni\nContrebasse : Léna Aubert\nQUATUOR MOMENTUM\nViolo
 ns : Camille Coullet\, Noé Gubitsch\nAlto : Ulysse Junek\nVioloncelle :
  Pierre Schaaf\n\n&nbsp\;\n\nhttps://www.opera-lyon.com/fr/programmation/
 saison-2022-2023/opera-underground/raphael-imbert-co
ATTACH;FMTTYPE=image/jpeg:https://sonnytroupe.com/wp-content/uploads/2022/
 05/IVS.jpg
CATEGORIES:Sideman
LOCATION:Opéra de Lyon\, 1 place de la comédie\, Lyon\, 69001\, France
X-APPLE-STRUCTURED-LOCATION;VALUE=URI;X-ADDRESS=1 place de la comédie\, Ly
 on\, 69001\, France;X-APPLE-RADIUS=100;X-TITLE=Opéra de Lyon:geo:0,0
END:VEVENT
END:VCALENDAR