BEGIN:VCALENDAR
VERSION:2.0
PRODID:-//wp-events-plugin.com//7.2.3.1//EN
BEGIN:VEVENT
UID:1000@sonnytroupe.com
DTSTART:20240615T210000Z
DTEND:20240615T210000Z
DTSTAMP:20240502T223151Z
URL:https://sonnytroupe.com/events/raphael-imbert-co-libre-cours
SUMMARY:Raphaël Imbert & Co Libre Cours !
DESCRIPTION:&nbsp\;\n\nPlus d'infos
CATEGORIES:Sideman
LOCATION:Opéra de Lyon\, 1 place de la comédie\, Lyon\, 69001\, France
X-APPLE-STRUCTURED-LOCATION;VALUE=URI;X-ADDRESS=1 place de la comédie\, Ly
 on\, 69001\, France;X-APPLE-RADIUS=100;X-TITLE=Opéra de Lyon:geo:0,0
END:VEVENT
END:VCALENDAR