BEGIN:VCALENDAR
VERSION:2.0
PRODID:-//wp-events-plugin.com//7.2.3.1//EN
BEGIN:VEVENT
UID:180@sonnytroupe.com
DTSTART:20150530T190000Z
DTEND:20150530T190000Z
DTSTAMP:20150406T231607Z
URL:https://sonnytroupe.com/events/pagaille-9
SUMMARY:Pagaille
DESCRIPTION:"PAGAILLE… Une musique hybride\, groovy et énergique"\n\nTom
 a Roche : voix\n\nNicolas Fabre :  claviers\n\nPhilippe Zelmar : guita
 res\n\nDavid ’Dogm’ Maillard :  machines\n\nMatthieu Sineau : basse
 \n\nSonny Troupé : batterie\n\nPlus d'infos
CATEGORIES:Sideman
LOCATION:Moki Bar\, 61 rue des Vignoles \, Paris\, 75020\, Ile de France\, 
 France
GEO:48.8550215;2.400840099999982
X-APPLE-STRUCTURED-LOCATION;VALUE=URI;X-ADDRESS=61 rue des Vignoles \, Pari
 s\, 75020\, Ile de France\, France;X-APPLE-RADIUS=100;X-TITLE=Moki Bar:geo
 :48.8550215,2.400840099999982
END:VEVENT
END:VCALENDAR