BEGIN:VCALENDAR
VERSION:2.0
PRODID:-//wp-events-plugin.com//7.2.3.1//EN
BEGIN:VEVENT
UID:30@sonnytroupe.com
DTSTART:20130428T170000Z
DTEND:20130428T170000Z
DTSTAMP:20140615T092936Z
URL:https://sonnytroupe.com/events/pagaille-2
SUMMARY:Pagaille
DESCRIPTION:Toma Roche: voix\n\nNicolas Fabre: claviers\n\nPhilippe Zelma
 r: guitares\n\nDavid ’Dogm’ Maillard: machines\n\nMatthieu Sineau: 
 basse\n\nSonny Troupé: Batterie\n\nWebsite Pagaille\n\n&nbsp\;
CATEGORIES:Sideman
LOCATION:\, \, 
X-APPLE-STRUCTURED-LOCATION;VALUE=URI;X-ADDRESS=\, ;X-APPLE-RADIUS=100;X-TI
 TLE=:geo:0,0
END:VEVENT
END:VCALENDAR