BEGIN:VCALENDAR
VERSION:2.0
PRODID:-//wp-events-plugin.com//7.2.3.1//EN
BEGIN:VEVENT
UID:93@sonnytroupe.com
DTSTART:20140716T200000Z
DTEND:20140716T200000Z
DTSTAMP:20140615T162518Z
URL:https://sonnytroupe.com/events/millau-jazz-sonny-troupe-quartet
SUMMARY:Sonny Troupé quartet
DESCRIPTION:Grégory Privat: piano\, voix - Mike Armoogum: basse\, voix - A
 rnaud Dolmen: tambour ka\, voix - Sonny Troupé: batterie\, sample\, voix\
 , tambour ka
CATEGORIES:Sonny
LOCATION:Millau Jazz Festival\, Saint-Georges-de-Luzençon\, Saint-Georges-
 de-Luzençon\, 12100\, Midi Pyrénées\, France
GEO:44.062439;2.9836609999999837
X-APPLE-STRUCTURED-LOCATION;VALUE=URI;X-ADDRESS=Saint-Georges-de-Luzençon\
 , Saint-Georges-de-Luzençon\, 12100\, Midi Pyrénées\, France;X-APPLE-RA
 DIUS=100;X-TITLE=Millau Jazz Festival:geo:44.062439,2.9836609999999837
END:VEVENT
END:VCALENDAR