BEGIN:VCALENDAR
VERSION:2.0
PRODID:-//wp-events-plugin.com//7.2.3.1//EN
BEGIN:VEVENT
UID:904@sonnytroupe.com
DTSTART:20230530T170000Z
DTEND:20230530T170000Z
DTSTAMP:20230303T183000Z
URL:https://sonnytroupe.com/events/master-class-a-lecole-promusika-2
SUMMARY:Master class à l'école Promusika
DESCRIPTION:En compagnie de Christian Laviso autour du gwoka modèn
ATTACH;FMTTYPE=image/jpeg:https://sonnytroupe.com/wp-content/uploads/2022/
 10/Sobat1_ajout.jpg
CATEGORIES:Masterclass
LOCATION:Ecole Promusika\, Av. Gabriel Bach\, Raizet\, ABYMES\, 97139\, Gua
 deloupe
X-APPLE-STRUCTURED-LOCATION;VALUE=URI;X-ADDRESS=Av. Gabriel Bach\, Raizet\,
  ABYMES\, 97139\, Guadeloupe;X-APPLE-RADIUS=100;X-TITLE=Ecole Promusika:ge
 o:0,0
END:VEVENT
END:VCALENDAR