BEGIN:VCALENDAR
VERSION:2.0
PRODID:-//wp-events-plugin.com//7.2.3.1//EN
BEGIN:VEVENT
UID:914@sonnytroupe.com
DTSTART:20230627T160000Z
DTEND:20230627T173000Z
DTSTAMP:20230608T190842Z
URL:https://sonnytroupe.com/events/master-class-a-lecole-arpege-promuzika
SUMMARY:Master Class à l'école Arpège - Promuzika
DESCRIPTION:Session 3/3\n\n&nbsp\;\n\n
CATEGORIES:Masterclass
LOCATION:Ecole Arpège\, Bergevin\, POINTE A PITRE\, 97110\, Guadeloupe
X-APPLE-STRUCTURED-LOCATION;VALUE=URI;X-ADDRESS=Bergevin\, POINTE A PITRE\,
  97110\, Guadeloupe;X-APPLE-RADIUS=100;X-TITLE=Ecole Arpège:geo:0,0
END:VEVENT
END:VCALENDAR