BEGIN:VCALENDAR
VERSION:2.0
PRODID:-//wp-events-plugin.com//7.2.3.1//EN
BEGIN:VEVENT
UID:985@sonnytroupe.com
DTSTART:20240505T130000Z
DTEND:20240505T130000Z
DTSTAMP:20240502T212338Z
URL:https://sonnytroupe.com/events/master-class-2
SUMMARY:Master Class
DESCRIPTION:À l'école Agostini Quimper
ATTACH;FMTTYPE=image/jpeg:https://sonnytroupe.com/wp-content/uploads/2022/
 10/Sobat1_ajout.jpg
CATEGORIES:Masterclass
LOCATION:Agostini Quimper\, 47 Av. Pierre Mendès France\, Quimper\, 29000\
 , France
X-APPLE-STRUCTURED-LOCATION;VALUE=URI;X-ADDRESS=47 Av. Pierre Mendès Franc
 e\, Quimper\, 29000\, France;X-APPLE-RADIUS=100;X-TITLE=Agostini Quimper:g
 eo:0,0
END:VEVENT
END:VCALENDAR