BEGIN:VCALENDAR
VERSION:2.0
PRODID:-//wp-events-plugin.com//7.2.3.1//EN
BEGIN:VEVENT
UID:89@sonnytroupe.com
DTSTART:20140608T190000Z
DTEND:20140608T190000Z
DTSTAMP:20140615T093111Z
URL:https://sonnytroupe.com/events/maher-beauroy-trio
SUMMARY:Maher Beauroy Trio
DESCRIPTION:Maher Beauroy : piano\n\nMichel Alibo : basse\n\nSonny Troupé 
 : batterie
CATEGORIES:Sideman
LOCATION:Lamentin Jazz Project\, Lamentin\, Lamentin\, Martinique\, 97232\,
  France
X-APPLE-STRUCTURED-LOCATION;VALUE=URI;X-ADDRESS=Lamentin\, Lamentin\, Marti
 nique\, 97232\, France;X-APPLE-RADIUS=100;X-TITLE=Lamentin Jazz Project:ge
 o:0,0
END:VEVENT
END:VCALENDAR