BEGIN:VCALENDAR
VERSION:2.0
PRODID:-//wp-events-plugin.com//7.2.3.1//EN
BEGIN:VEVENT
UID:637@sonnytroupe.com
DTSTART;VALUE=DATE:20200422
DTEND;VALUE=DATE:20200423
DTSTAMP:20200312T174517Z
URL:https://sonnytroupe.com/events/live-rfi-ausgang
SUMMARY:Live RFI - Ausgang
DESCRIPTION:
CATEGORIES:Masterclass
LOCATION:RFI\, 80 Rue Camille Desmoulins\,\, Issy-les-Moulineaux\, 92130\, 
 France
X-APPLE-STRUCTURED-LOCATION;VALUE=URI;X-ADDRESS=80 Rue Camille Desmoulins\,
 \, Issy-les-Moulineaux\, 92130\, France;X-APPLE-RADIUS=100;X-TITLE=RFI:geo
 :0,0
END:VEVENT
END:VCALENDAR