BEGIN:VCALENDAR
VERSION:2.0
PRODID:-//wp-events-plugin.com//7.2.3.1//EN
BEGIN:VEVENT
UID:636@sonnytroupe.com
DTSTART;VALUE=DATE:20200421
DTEND;VALUE=DATE:20200422
DTSTAMP:20200312T174509Z
URL:https://sonnytroupe.com/events/live-france-inter-ausgang
SUMMARY:Live France Inter - Ausgang
DESCRIPTION:
CATEGORIES:Masterclass
LOCATION:France Inter\,  19 av Gén Mangin\, Paris\, 75016 \, France
X-APPLE-STRUCTURED-LOCATION;VALUE=URI;X-ADDRESS= 19 av Gén Mangin\, Paris\
 , 75016 \, France;X-APPLE-RADIUS=100;X-TITLE=France Inter:geo:0,0
END:VEVENT
END:VCALENDAR