BEGIN:VCALENDAR
VERSION:2.0
PRODID:-//wp-events-plugin.com//7.2.3.1//EN
BEGIN:VEVENT
UID:91@sonnytroupe.com
DTSTART:20140603T170000Z
DTEND:20140604T170000Z
DTSTAMP:20140615T093111Z
URL:https://sonnytroupe.com/events/lisa-simone
SUMMARY:Lisa Simone
DESCRIPTION:&nbsp\;\n\nPlus d'infos
CATEGORIES:Sideman
LOCATION:Ronnie Scotts Jazz Club\, 47 Frith Street\, Soho\,  London W1D 4HT
 \, England
GEO:51.5134057;-0.13171520000003056
X-APPLE-STRUCTURED-LOCATION;VALUE=URI;X-ADDRESS=47 Frith Street\, Soho\,  L
 ondon W1D 4HT\, England;X-APPLE-RADIUS=100;X-TITLE=Ronnie Scotts Jazz Club
 :geo:51.5134057,-0.13171520000003056
END:VEVENT
END:VCALENDAR