BEGIN:VCALENDAR
VERSION:2.0
PRODID:-//wp-events-plugin.com//7.2.3.1//EN
BEGIN:VEVENT
UID:220@sonnytroupe.com
DTSTART:20150919T193000Z
DTEND:20150919T193000Z
DTSTAMP:20150910T230406Z
URL:https://sonnytroupe.com/events/lisa-simone-34
SUMMARY:Lisa Simone
DESCRIPTION:
CATEGORIES:Sideman
LOCATION:Saint Rémy Jazz Festival\, L'alpilium / Salle de spectacles et de
  Congres / Av du Maréchal de Lattre de Tassigny\, Saint Remy De Provence 
 \, 13210 \, France
GEO:43.788652;4.831343000000061
X-APPLE-STRUCTURED-LOCATION;VALUE=URI;X-ADDRESS=L'alpilium / Salle de spect
 acles et de Congres / Av du Maréchal de Lattre de Tassigny\, Saint Remy D
 e Provence \, 13210 \, France;X-APPLE-RADIUS=100;X-TITLE=Saint Rémy Jazz 
 Festival:geo:43.788652,4.831343000000061
END:VEVENT
END:VCALENDAR