BEGIN:VCALENDAR
VERSION:2.0
PRODID:-//wp-events-plugin.com//7.2.3.1//EN
BEGIN:VEVENT
UID:182@sonnytroupe.com
DTSTART:20150602T190000Z
DTEND:20150602T190000Z
DTSTAMP:20150523T132756Z
URL:https://sonnytroupe.com/events/lisa-simone-33
SUMMARY:Lisa Simone
DESCRIPTION:
CATEGORIES:Sideman
LOCATION:Festival Jazzellerault\, Grande Scène L'angelarde\, 44 rue Angela
 rde\, Chatellerault \, 86100\, France
GEO:46.8137441;0.5400260000000117
X-APPLE-STRUCTURED-LOCATION;VALUE=URI;X-ADDRESS=Grande Scène L'angelarde\,
  44 rue Angelarde\, Chatellerault \, 86100\, France;X-APPLE-RADIUS=100;X-T
 ITLE=Festival Jazzellerault:geo:46.8137441,0.5400260000000117
END:VEVENT
END:VCALENDAR