BEGIN:VCALENDAR
VERSION:2.0
PRODID:-//wp-events-plugin.com//7.2.3.1//EN
BEGIN:VEVENT
UID:181@sonnytroupe.com
DTSTART:20150601T193000Z
DTEND:20150601T193000Z
DTSTAMP:20150523T131934Z
URL:https://sonnytroupe.com/events/lisa-simone-32
SUMMARY:Lisa Simone
DESCRIPTION:
CATEGORIES:Sideman
LOCATION:Festival Jazz à Saint Germain Prés\, Théâtre de l'Odéon\, Par
 is\, 75006\, France
GEO:48.856922;2.338715900000011
X-APPLE-STRUCTURED-LOCATION;VALUE=URI;X-ADDRESS=Théâtre de l'Odéon\, Par
 is\, 75006\, France;X-APPLE-RADIUS=100;X-TITLE=Festival Jazz à Saint Germ
 ain Prés:geo:48.856922,2.338715900000011
END:VEVENT
END:VCALENDAR