BEGIN:VCALENDAR
VERSION:2.0
PRODID:-//wp-events-plugin.com//7.2.3.1//EN
BEGIN:VEVENT
UID:104@sonnytroupe.com
DTSTART:20141014T200000Z
DTEND:20141014T200000Z
DTSTAMP:20140720T102031Z
URL:https://sonnytroupe.com/events/lisa-simone-3
SUMMARY:Lisa Simone
DESCRIPTION:Dans le cadre du festival "Jazz sur son 31"\n\nLisa Simone : le
 ad vocal\n\nHervé Samb : guitare\, direction artistique\n\nReggie Washing
 ton : basse\, contrebasse\n\nSonny Troupé : batterie\n\n&nbsp\;
CATEGORIES:Sideman
LOCATION:Altigone\, Place Jean Bellières\, St Orens de Gameville \, 31650\
 , Midi Pyrénée\, France
GEO:43.5531756;1.5296971000000212
X-APPLE-STRUCTURED-LOCATION;VALUE=URI;X-ADDRESS=Place Jean Bellières\, St 
 Orens de Gameville \, 31650\, Midi Pyrénée\, France;X-APPLE-RADIUS=100;X
 -TITLE=Altigone:geo:43.5531756,1.5296971000000212
END:VEVENT
END:VCALENDAR