BEGIN:VCALENDAR
VERSION:2.0
PRODID:-//wp-events-plugin.com//7.2.3.1//EN
BEGIN:VEVENT
UID:389@sonnytroupe.com
DTSTART:20171027T190000Z
DTEND:20171027T190000Z
DTSTAMP:20170905T184257Z
URL:https://sonnytroupe.com/events/lisa-simone-143
SUMMARY:Lisa Simone
DESCRIPTION:
CATEGORIES:Sideman
LOCATION:Palais Montcalm\, 995 Place d'Youville\, Ville de Québec\, QC G1R
  3P1\,\, Quebec\, Canada
GEO:46.8119634;-71.21328460000001
X-APPLE-STRUCTURED-LOCATION;VALUE=URI;X-ADDRESS=995 Place d'Youville\, Vill
 e de Québec\, QC G1R 3P1\,\, Quebec\, Canada;X-APPLE-RADIUS=100;X-TITLE=P
 alais Montcalm:geo:46.8119634,-71.21328460000001
END:VEVENT
END:VCALENDAR