BEGIN:VCALENDAR
VERSION:2.0
PRODID:-//wp-events-plugin.com//7.2.3.1//EN
BEGIN:VEVENT
UID:373@sonnytroupe.com
DTSTART:20170723T123000Z
DTEND:20170723T123000Z
DTSTAMP:20170615T114212Z
URL:https://sonnytroupe.com/events/lisa-simone-137
SUMMARY:Lisa Simone
DESCRIPTION:
CATEGORIES:Sideman
LOCATION:PARIS JAZZ FESTIVAL\, Theatre Astral - Parc Floral - Route de la P
 yramide\, Paris\, 75012\, France
GEO:48.8383204;2.446544700000004
X-APPLE-STRUCTURED-LOCATION;VALUE=URI;X-ADDRESS=Theatre Astral - Parc Flora
 l - Route de la Pyramide\, Paris\, 75012\, France;X-APPLE-RADIUS=100;X-TIT
 LE=PARIS JAZZ FESTIVAL:geo:48.8383204,2.446544700000004
END:VEVENT
END:VCALENDAR