BEGIN:VCALENDAR
VERSION:2.0
PRODID:-//wp-events-plugin.com//7.2.3.1//EN
BEGIN:VEVENT
UID:907@sonnytroupe.com
DTSTART:20230613T190000Z
DTEND:20230613T190000Z
DTSTAMP:20230608T183453Z
URL:https://sonnytroupe.com/events/julien-coriatt-brand-new-quintet-3
SUMMARY:Julien Coriatt Brand New Quintet
DESCRIPTION:Présentation nouvel album\n\nhttps://www.youtube.com/watch?v=K
 6LKR0MIS5w
CATEGORIES:Sideman
LOCATION:Caveau des Oubliettes\, 52 Rue Galande\, Paris\, 75005 \, Ile de F
 rance\, France
GEO:48.8519987;2.346747800000003
X-APPLE-STRUCTURED-LOCATION;VALUE=URI;X-ADDRESS=52 Rue Galande\, Paris\, 75
 005 \, Ile de France\, France;X-APPLE-RADIUS=100;X-TITLE=Caveau des Oublie
 ttes:geo:48.8519987,2.346747800000003
END:VEVENT
END:VCALENDAR