BEGIN:VCALENDAR
VERSION:2.0
PRODID:-//wp-events-plugin.com//7.2.3.1//EN
BEGIN:VEVENT
UID:651@sonnytroupe.com
DTSTART:20200709T190000Z
DTEND:20200710T190000Z
DTSTAMP:20200628T181727Z
URL:https://sonnytroupe.com/events/jocelyn-menard-new-band-3
SUMMARY:Jocelyn Menard New Band
DESCRIPTION:Jocelyn Ménard : sax\n\nLeedyah Barlagne : voix\n\nJean-michel
  Lesdel : claviers\n\nRégis Thérèse : basse\n\nSonny Troupé : batterie
 \n\n&nbsp\;
CATEGORIES:Sideman
LOCATION:La Créole Jazz Club\, Hotel Creole Beach  La Créole Jazz Club Po
 inte de la verdure - Le Gosier Événements  Adresse Pointe de la verdure\
 , Gosier\, 97190\, Guadeloupe
X-APPLE-STRUCTURED-LOCATION;VALUE=URI;X-ADDRESS=Hotel Creole Beach  La Cré
 ole Jazz Club Pointe de la verdure - Le Gosier Événements  Adresse Point
 e de la verdure\, Gosier\, 97190\, Guadeloupe;X-APPLE-RADIUS=100;X-TITLE=L
 a Créole Jazz Club:geo:0,0
END:VEVENT
END:VCALENDAR