BEGIN:VCALENDAR
VERSION:2.0
PRODID:-//wp-events-plugin.com//7.2.3.1//EN
BEGIN:VEVENT
UID:28@sonnytroupe.com
DTSTART:20130519T173000Z
DTEND:20130519T173000Z
DTSTAMP:20140615T092936Z
URL:https://sonnytroupe.com/events/jocelyn-menard-jazz-group-2
SUMMARY:Jocelyn Ménard Jazz Group
DESCRIPTION:Sonny Troupé batterie\, Mario Canonge piano\, Gino Chantoiseau
  basse\, Jocelyn Ménard sax.\n\nJOCELYN MENARD\n\nSaxophoniste\, composit
 eur et arrangeur\, Jocelyn Ménard est un musicien de jazz d'origine canad
 ienne. Formé à Montréal puis à New York [George Coleman]\, il joue ave
 c Jean Beaudet\, Jean Fréchette\, Rémi Bolduc\, etc. et participe à de 
 nombreux festivals. Il s'installe en Guadeloupe en 1988 pour enseigner. Il
  joue régulièrement avec André Condouant\, Happy Lewis\, Christian Amou
 r\, Charlie Chomereau-Lamotte\, monte plusieurs projets en big band [Big B
 and Mavounzy\, Gwadloup Big Band...] et en petites formations [Men Art Jaz
 z 4tet\, An'nax\, Guanada...] avec Normand Deveault\, Raymond Grego\, Raym
 ond d'Huy\, Dominique Bérose etc. Outre des participations sur plusieurs 
 disques de jazz caribéen\, il produit son premier album Men Art Work's en
  2001 avec la participation d'Alain Jean-Marie. Il ouvre finalement sa pro
 pre école de musique en 1997\, qui comptera jusqu'à une douzaine de prof
 esseurs. Il a également participé au projet électro-ka de Rico Toto\, j
 oué avec Mario Canonge et Paul Lay et s'investit dans des créations thé
 âtre et musique avec le comédien Gilbert Laumord. Ces dernières années
  il a développé son projet Gwanada en sextet et big band\, présenté au
  Festival de Jazz de Pointe-à-Pitre en 2007 avec la participation entre a
 utres de Michel Cusson. Ses compositions sont rassemblées dans son nouvel
  album\, Terre Mère\, enregistré entre Paris\, la Guadeloupe et Montréa
 l\, et qui parait en décembre 2012
CATEGORIES:Sideman
LOCATION:le Baiser Salé\, 58\, rue des Lombards\, Paris\, 75001\, France
GEO:48.8597733;2.347917300000063
X-APPLE-STRUCTURED-LOCATION;VALUE=URI;X-ADDRESS=58\, rue des Lombards\, Par
 is\, 75001\, France;X-APPLE-RADIUS=100;X-TITLE=le Baiser Salé:geo:48.8597
 733,2.347917300000063
END:VEVENT
END:VCALENDAR