BEGIN:VCALENDAR
VERSION:2.0
PRODID:-//wp-events-plugin.com//7.2.3.1//EN
BEGIN:VEVENT
UID:1115@sonnytroupe.com
DTSTART:20260116T193000Z
DTEND:20260116T193000Z
DTSTAMP:20251219T132240Z
URL:https://sonnytroupe.com/events/jam-tanbou-de-fritz-naffer
SUMMARY:Jam Tanbou de Fritz Naffer
DESCRIPTION:
CATEGORIES:Sideman
LOCATION:Maison Coquille\, 4\, rue du Nègre-Sans-Peur\, Basse-Terre\, Guad
 eloupe\, 97100 \, Guadeloupe
X-APPLE-STRUCTURED-LOCATION;VALUE=URI;X-ADDRESS=4\, rue du Nègre-Sans-Peur
 \, Basse-Terre\, Guadeloupe\, 97100 \, Guadeloupe;X-APPLE-RADIUS=100;X-TIT
 LE=Maison Coquille:geo:0,0
END:VEVENT
END:VCALENDAR