BEGIN:VCALENDAR
VERSION:2.0
PRODID:-//wp-events-plugin.com//7.2.3.1//EN
BEGIN:VEVENT
UID:674@sonnytroupe.com
DTSTART:20201218T190000Z
DTEND:20201218T190000Z
DTSTAMP:20201111T121547Z
URL:https://sonnytroupe.com/events/jacques-schwarz-bart-sone-ka-la-ii
SUMMARY:Jacques Schwarz Bart - Soné Ka La II REPORTÉ
DESCRIPTION:Sous réserve\n\nJacques Schwarz-Bart : sax\, band leader\n\nMa
 lika Tirolien : voix\n\nGrégory Privat : piano\n\nArnaud Dolmen : batteri
 e\n\nSonny Troupé : tambour ka\n\nReggie Washington : basse\n\n&nbsp\;\n\
 nhttps://www.youtube.com/watch?v=Ob3uJTAuBKQ
CATEGORIES:Sideman
LOCATION:Guadeloupe\, Guadeloupe\, Guadeloupe\, Guadeloupe
GEO:16.265;-61.55099999999999
X-APPLE-STRUCTURED-LOCATION;VALUE=URI;X-ADDRESS=Guadeloupe\, Guadeloupe\, G
 uadeloupe;X-APPLE-RADIUS=100;X-TITLE=Guadeloupe:geo:16.265,-61.55099999999
 999
END:VEVENT
END:VCALENDAR