BEGIN:VCALENDAR
VERSION:2.0
PRODID:-//wp-events-plugin.com//7.2.3.1//EN
BEGIN:VEVENT
UID:26@sonnytroupe.com
DTSTART:20130418T193000Z
DTEND:20130418T193000Z
DTSTAMP:20140615T092936Z
URL:https://sonnytroupe.com/events/jacques-schwarz-bart-jazz-racine-haiti-
 2
SUMMARY:Jacques Schwarz-Bart & Jazz Racine Haïti
DESCRIPTION:
CATEGORIES:Sideman
LOCATION:le Zèbre de Belleville\, 63 Boulevard de Belleville\, Paris\, 750
 11\, France
GEO:48.8701412;2.378608399999962
X-APPLE-STRUCTURED-LOCATION;VALUE=URI;X-ADDRESS=63 Boulevard de Belleville\
 , Paris\, 75011\, France;X-APPLE-RADIUS=100;X-TITLE=le Zèbre de Bellevill
 e:geo:48.8701412,2.378608399999962
END:VEVENT
END:VCALENDAR