BEGIN:VCALENDAR
VERSION:2.0
PRODID:-//wp-events-plugin.com//7.2.3.1//EN
BEGIN:VEVENT
UID:221@sonnytroupe.com
DTSTART:20150924T200000Z
DTEND:20150924T200000Z
DTSTAMP:20150910T231226Z
URL:https://sonnytroupe.com/events/herve-samb
SUMMARY:Hervé Samb
DESCRIPTION:Hervé SAMB - Guitare\nOlivier TEMIME - Saxophone\nReggie WASHI
 NGTON - Basses\nSonny TROUPÉ - Batterie
CATEGORIES:Sideman
LOCATION:Saint Jazz Ten Noode\, Jazz Station Chaussée de Louvain 193\,\, S
 aint-Josse-Ten-Noode\, 1210 \, Belgique
GEO:50.850509;4.380341600000065
X-APPLE-STRUCTURED-LOCATION;VALUE=URI;X-ADDRESS=Jazz Station Chaussée de L
 ouvain 193\,\, Saint-Josse-Ten-Noode\, 1210 \, Belgique;X-APPLE-RADIUS=100
 ;X-TITLE=Saint Jazz Ten Noode:geo:50.850509,4.380341600000065
END:VEVENT
END:VCALENDAR