BEGIN:VCALENDAR
VERSION:2.0
PRODID:-//wp-events-plugin.com//7.2.3.1//EN
BEGIN:VEVENT
UID:972@sonnytroupe.com
DTSTART:20240203T183000Z
DTEND:20240203T183000Z
DTSTAMP:20231216T122123Z
URL:https://sonnytroupe.com/events/gregory-privat-trio-friends
SUMMARY:Grégory Privat Trio & Friends
DESCRIPTION:
CATEGORIES:Sideman
LOCATION:Théâtre Christian-Liger\, Place Hubert Rouger \, Nîmes\, 30000\
 , France
GEO:43.8324291;4.352676100000053
X-APPLE-STRUCTURED-LOCATION;VALUE=URI;X-ADDRESS=Place Hubert Rouger \, Nîm
 es\, 30000\, France;X-APPLE-RADIUS=100;X-TITLE=Théâtre Christian-Liger:g
 eo:43.8324291,4.352676100000053
END:VEVENT
END:VCALENDAR