BEGIN:VCALENDAR
VERSION:2.0
PRODID:-//wp-events-plugin.com//7.2.3.1//EN
BEGIN:VEVENT
UID:670@sonnytroupe.com
DTSTART:20201018T160000Z
DTEND:20201018T160000Z
DTSTAMP:20200906T222730Z
URL:https://sonnytroupe.com/events/gregory-privat-sonny-troupe-luminescenc
 e-3
SUMMARY:Grégory Privat / Sonny Troupé - Luminescence
DESCRIPTION:Grégory Privat : piano\n\nSonny Troupé : tambour ka\n\n&nbsp\
 ;\n\nhttps://www.youtube.com/watch?v=2M2iFGAXa9U
ATTACH;FMTTYPE=image/jpeg:https://sonnytroupe.com/wp-content/uploads/2018/
 11/cartouche_luminescence_400.jpg
CATEGORIES:Sonny
LOCATION:Festival Chant de la rive\, St-Pol de Léon\, Saint Pol de Léon\,
  29250\, France
X-APPLE-STRUCTURED-LOCATION;VALUE=URI;X-ADDRESS=St-Pol de Léon\, Saint Pol
  de Léon\, 29250\, France;X-APPLE-RADIUS=100;X-TITLE=Festival Chant de la
  rive:geo:0,0
END:VEVENT
END:VCALENDAR