BEGIN:VCALENDAR
VERSION:2.0
PRODID:-//wp-events-plugin.com//7.2.3.1//EN
BEGIN:VEVENT
UID:613@sonnytroupe.com
DTSTART:20200801T170000Z
DTEND:20200801T170000Z
DTSTAMP:20200628T183323Z
URL:https://sonnytroupe.com/events/gregory-privat-sonny-troupe-duo-lumines
 cence-5
SUMMARY:Grégory Privat - Sonny Troupé (Duo Luminescence) REPORTÉ
DESCRIPTION:
CATEGORIES:Sonny
LOCATION:Festival Le Chant de la Rive\, St-Pol de Léon\, Saint Pol de Léo
 n\, 29250\, France
X-APPLE-STRUCTURED-LOCATION;VALUE=URI;X-ADDRESS=St-Pol de Léon\, Saint Pol
  de Léon\, 29250\, France;X-APPLE-RADIUS=100;X-TITLE=Festival Le Chant de
  la Rive:geo:0,0
END:VEVENT
END:VCALENDAR