BEGIN:VCALENDAR
VERSION:2.0
PRODID:-//wp-events-plugin.com//7.2.3.1//EN
BEGIN:VEVENT
UID:148@sonnytroupe.com
DTSTART:20150113T173000Z
DTEND:20150113T173000Z
DTSTAMP:20141218T132625Z
URL:https://sonnytroupe.com/events/gregory-privat-sonny-troupe-duo-2
SUMMARY:Grégory Privat / Sonny Troupé Duo
DESCRIPTION:Dans le cadre du French Quarter 2nd edition\, in New York City
 \n\n
CATEGORIES:Sonny
LOCATION:Joe's Pub\, 425 Lafayette Street\, New York\, New York\, 10003\, 
 États-Unis
GEO:40.729032;-73.9918202
X-APPLE-STRUCTURED-LOCATION;VALUE=URI;X-ADDRESS=425 Lafayette Street\, New 
 York\, New York\, 10003\, États-Unis;X-APPLE-RADIUS=100;X-TITLE=Joe's Pub
 :geo:40.729032,-73.9918202
END:VEVENT
END:VCALENDAR