BEGIN:VCALENDAR
VERSION:2.0
PRODID:-//wp-events-plugin.com//7.2.3.1//EN
BEGIN:VEVENT
UID:183@sonnytroupe.com
DTSTART:20150605T193000Z
DTEND:20150605T193000Z
DTSTAMP:20150523T134557Z
URL:https://sonnytroupe.com/events/gregory-privat-group-tales-of-cyparis
SUMMARY:Grégory Privat Group "Tales of Cyparis"
DESCRIPTION:Grégory Privat : piano \, voix\nManu Codjia :  guitare\nJir
 i Slavik  : contrebasse\n\nAdriano Tenorio : percussions\nSonny Troupé
  : ka
CATEGORIES:Sideman
LOCATION:Domaine de Fontblanche\, 13127\, Vitrolles\, 13127\, France
GEO:43.4572931;5.24965880000002
X-APPLE-STRUCTURED-LOCATION;VALUE=URI;X-ADDRESS=13127\, Vitrolles\, 13127\,
  France;X-APPLE-RADIUS=100;X-TITLE=Domaine de Fontblanche:geo:43.4572931,5
 .24965880000002
END:VEVENT
END:VCALENDAR